BEGIN:VCALENDAR
VERSION:2.0
PRODID:-//bonasoft.pl//NONSGML Szkolenie „Sztuczna inteligencja w pracy nauczyciela – od teorii do praktyki//EN
CALSCALE:GREGORIAN
METHOD:PUBLISH
BEGIN:VEVENT
UID:20260424T142519-1227420207uid
DISTAMP:20260424T142519
DTSTART:20260520T110000Z
DTEND:20260520T131500Z
LOCATION:Biblioteka Pedagogiczna w Makowie Maz.
SUMMARY:Szkolenie „Sztuczna inteligencja w pracy nauczyciela – od teorii do praktyki
DESCRIPTION:Szkolenie poświęcone narzędziom sztucznej inteligencji, skierowane do chętnych nauczycieli wszystkich szkół w powiecie makowskim.
END:VEVENT
END:VCALENDAR
