BEGIN:VCALENDAR
VERSION:2.0
PRODID:-//bonasoft.pl//NONSGML Konkurs „Moja wyjątkowa zakładka do książki”//EN
CALSCALE:GREGORIAN
METHOD:PUBLISH
BEGIN:VEVENT
UID:20260424T142519-2086166975uid
DISTAMP:20260424T142519
DTSTART:20260415T220000Z
DTEND:20260429T220000Z
LOCATION:Biblioteka Pedagogiczna w Makowie Maz.
SUMMARY:Konkurs „Moja wyjątkowa zakładka do książki”
DESCRIPTION:Konkurs skierowany jest do dzieci z grup zerówkowych z  przedszkoli z Makowa Mazowieckim i powiatu makowskiego.
Każdy uczestnik wykonuje samodzielnie jedną zakładkę w dowolnym rozmiarze, dowolną techniką plastyczną.

END:VEVENT
END:VCALENDAR
